BEGIN:VCALENDAR
VERSION:2.0
PRODID:-//ChamberMaster//Event Calendar 2.0//EN
METHOD:PUBLISH
X-PUBLISHED-TTL:P3D
REFRESH-INTERVAL:P3D
CALSCALE:GREGORIAN
BEGIN:VEVENT
DTSTART;VALUE=DATE:20260607
DTEND;VALUE=DATE:20260608
TRANSP:TRANSPARENT
X-MICROSOFT-CDO-ALLDAYEVENT:TRUE
SUMMARY:2026 A Day In Our Village
DESCRIPTION:Save the date to join the great diversity of people\, information\, music\, and Fun!\n\nThis is our 52nd Year!
X-ALT-DESC;FMTTYPE=text/html:<br />\nSave the date to join the great diversity of people\, information\, music\, and Fun!<br />\nThis is our 52nd Year!&nbsp\;&nbsp\;
LOCATION:Scoville Park\, Oak Park IL 60301
UID:e.1821.43592
SEQUENCE:3
DTSTAMP:20260421T233858Z
URL:https://business.oprfchamber.org/events/details/2026-a-day-in-our-village-43592
END:VEVENT

END:VCALENDAR
