BEGIN:VCALENDAR
VERSION:2.0
PRODID:-//ChamberMaster//Event Calendar 2.0//EN
METHOD:PUBLISH
X-PUBLISHED-TTL:P3D
REFRESH-INTERVAL:P3D
CALSCALE:GREGORIAN
BEGIN:VEVENT
DTSTART:20270207T230000Z
DTEND:20270208T030000Z
X-MICROSOFT-CDO-ALLDAYEVENT:FALSE
SUMMARY:CAYTA Bowl 2026 FUNraiser
DESCRIPTION:Join Us For CAYTA Bowl!\n\n\n\n\n\n\n\n\n\n\n\nTake part in a fun-filled day of sports\, friends\, and community spirit at CAYTA Bowl\, a high-energy football skills fundraiser taking place February 1\, 2026\, just ahead of Super Bowl weekend!\n\nWhen:   Sunday\, February 1\, 2026\n\nWhere: 201 S Ashland\n\nTime:    5pm   9pm\n\nThe CAYTA Bowl marks the first phase of a two-part tradition\, leading into our Cruise for a Cause in February 2027 a Super Bowl weekend at sea aboard the Carnival Valor.\n\n\n\nTogether\, these events raise critical funds for scholarships and educational travel\, giving Austin youth the opportunity to explore the world\, expand their perspectives\, and dream bigger.
X-ALT-DESC;FMTTYPE=text/html:<div>\n<div>\n<div>\n<div>\n<h1 style="text-align:center"><strong>Join Us For CAYTA Bowl!</strong></h1>\n</div>\n</div>\n</div>\n</div>\n\n<div>\n<div>\n<div>\n<div>\n<p style="text-align:justify"><br />\nTake part in a fun-filled day of sports\, friends\, and community spirit at&nbsp\;<strong>CAYTA Bowl</strong>\, a high-energy football skills fundraiser taking place February 1\, 2026\, just ahead of Super Bowl weekend!</p>\n\n<p><strong>When</strong>: &nbsp\; <strong>Sunday\, February 1\, 2026</strong></p>\n\n<p><strong>Where:</strong> <strong>201 S Ashland</strong></p>\n\n<p><strong>Time:</strong>&nbsp\;&nbsp\; &nbsp\;<strong>5pm &ndash\; 9pm</strong></p>\n\n<p style="text-align:justify">The CAYTA Bowl marks the first phase of a two-part tradition\, leading into our Cruise for a Cause in February 2027&mdash\;a Super Bowl weekend at sea aboard the Carnival Valor.<br />\n<br />\nTogether\, these events raise critical funds for scholarships and educational travel\, giving Austin youth the opportunity to explore the world\, expand their perspectives\, and dream bigger.</p>\n</div>\n</div>\n</div>\n</div>\n
LOCATION:Epiphany Center for the Arts 201 S Ashland Chicago\, IL 60607
UID:e.1821.43704
SEQUENCE:3
DTSTAMP:20260422T174430Z
URL:https://business.oprfchamber.org/events/details/cayta-bowl-2026-funraiser-02-07-2027-43704
END:VEVENT

END:VCALENDAR
