BEGIN:VCALENDAR
VERSION:2.0
PRODID:-//ChamberMaster//Event Calendar 2.0//EN
METHOD:PUBLISH
X-PUBLISHED-TTL:P3D
REFRESH-INTERVAL:P3D
CALSCALE:GREGORIAN
BEGIN:VEVENT
DTSTART:20260614T230000Z
DTEND:20260615T003000Z
X-MICROSOFT-CDO-ALLDAYEVENT:FALSE
SUMMARY:Concerts in the Park- The Prissillas: Park District of Oak Park
DESCRIPTION:Join the Park District of Oak Park for free\, family friendly* entertainment!\n\n\n\nEnjoy music every Sunday in Scoville Park\, 6pm -7:30 pm from June 14- Aug 30th. In the event of inclement weather\, please check the Park District website or social media for up-to-date information. We hope to see you in the Park!\n\n\n\n2026 Schedule\n\nJune 14\n\nThe Prissillas\n\nJune 21\n\nChez Butter\n\nJune 28\n\nWarp Wolf\n\nJuly 5\n\nORD Rocks\n\nJuly 12\n\nKey Suspects\n\nJuly 19\n\nTrue Company\n\n\n\n\n\n\nJuly 26\n\nTrabuco Latin Salsa Band\n\nAugust 2\n\nAnnie and the Orphans\n\nAugust 9\n\nThe King of Mars\n\nAugust 16\n\nRock Hands Music\n\nAugust 23\n\nMembers Only\n\nAugust 30\n\nHarmonix\n\n\n\n\n*Please note that alcoholic beverages are not permitted on Park property.
X-ALT-DESC;FMTTYPE=text/html:<br />\nJoin the Park District of Oak Park for free\, family friendly* entertainment!<br />\n<br />\nEnjoy music&nbsp\;<strong>every Sunday in Scoville Park\, 6pm -7:30 pm from June 14- Aug 30th</strong>. In the event of inclement weather\, please check the Park District website or social media for up-to-date information. We hope to see you in the Park!<br />\n<br />\n<span style="font-size:22px"><strong>2026 Schedule</strong></span><br />\n<strong>June 14</strong><br />\nThe Prissillas\n<div>\n<p><strong>June 21</strong><br />\nChez Butter</p>\n\n<p><strong>June 28</strong><br />\nWarp Wolf</p>\n\n<p><strong>July 5</strong><br />\nORD Rocks</p>\n\n<p><strong>July 12</strong><br />\nKey Suspects</p>\n\n<p><strong>July 19</strong><br />\nTrue Company</p>\n</div>\n\n<div>\n<div>\n<div>\n<div>\n<p><strong>July 26</strong><br />\nTrabuco Latin Salsa Band</p>\n\n<p><strong>August 2</strong><br />\nAnnie and the Orphans</p>\n\n<p><strong>August 9</strong><br />\nThe King of Mars</p>\n\n<p><strong>August 16</strong><br />\nRock Hands Music</p>\n\n<p><strong>August 23</strong><br />\nMembers Only</p>\n\n<p><strong>August 30</strong><br />\nHarmonix</p>\n</div>\n</div>\n</div>\n</div>\n*Please note that alcoholic beverages are not permitted on Park property.
LOCATION:Scoville Park (800 W Lake Street\, Oak Park 60302)
UID:e.1821.44439
SEQUENCE:3
DTSTAMP:20260421T123019Z
URL:https://business.oprfchamber.org/events/details/concerts-in-the-park-the-prissillas-park-district-of-oak-park-44439
END:VEVENT

END:VCALENDAR
