BEGIN:VCALENDAR
VERSION:2.0
PRODID:-//ChamberMaster//Event Calendar 2.0//EN
METHOD:PUBLISH
X-PUBLISHED-TTL:P3D
REFRESH-INTERVAL:P3D
CALSCALE:GREGORIAN
BEGIN:VEVENT
DTSTART:20260419T170000Z
DTEND:20260419T173000Z
X-MICROSOFT-CDO-ALLDAYEVENT:FALSE
SUMMARY:H&W Fair- Vendor Packed Lunch Order Form
DESCRIPTION:Please use this page to pre-purchase your packed lunch for the OPRF Chamber's Health and Wellness Fair \n\n\nNEW THIS YEAR! We are thrilled to be partnering with FFC to bring you a tasty and nourishing packed lunch.\n\n.\nWhat is Included?\nEach lunch will include a bottle of water and your choice of the following:\n\nBBQ Chicken Wrap\n\n\n	\n	Chicken\, spinach\, tomato\, cheddar cheese\n	\n	\n	Sauce: BBQ (on wrap) + Ranch (on side)\n	\n	\n	Tortilla: Flour\n	\n\n\nBuffalo Chicken Wrap\n\n\n	\n	Buffalo chicken\, spinach\, tomato\, cheddar cheese\n	\n	\n	Sauce: Ranch (on side)\n	\n	\n	Tortilla: Tomato basil\n	\n\n\nPlant-Based Burger (Vegetarian)\n\n\n	\n	Plant-based patty\, spinach\, tomato\n	\n	\n	Sauce: Chipotle ranch (spicy\, on side)\n	\n	\n	Bun: Potato bun or gluten-free bun\n	\n\n\nSpinach Salad (Gluten-Free)\n\n\n	\n	Spinach\, hard-boiled egg\, sweet potatoes\, carrots\n	\n	\n	Dressing: Lemon vinaigrette\n	\n\n1 Side:\n\n\n	\n	Chips (Plain Ruffles)\n\n	\n\n	OR\n	\n	\n	Fruit (Apple\, Orange\, Banana)\n	\n\n\n\n.\n*Please let us know of any allergies or dietary restrictions*\n\n\n.\n\n\nDelivered right to your table!\nThe packed lunches will be delivered to your vendor table between 11:45am and 12:45pm.\n\n.
X-ALT-DESC;FMTTYPE=text/html:Please use this page to pre-purchase your packed lunch for the OPRF Chamber&#39\;s Health and Wellness Fair&nbsp\;\n<hr /><br />\n<strong>NEW THIS YEAR!</strong> We are thrilled to be partnering with<a href="https://www.billybrickshq.com/"> </a>FFC&nbsp\;to bring you a tasty and nourishing packed lunch.<br />\n.\n<h1>What is Included?</h1>\nEach lunch will include a bottle of water and your choice of the following:\n\n<p data-end="318" data-start="296"><strong data-end="316" data-start="296">BBQ Chicken Wrap</strong></p>\n\n<ul data-end="426" data-start="319">\n	<li data-end="363" data-section-id="n5updz" data-start="319">\n	<p data-end="363" data-start="321">Chicken\, spinach\, tomato\, cheddar cheese</p>\n	</li>\n	<li data-end="406" data-section-id="g9akfk" data-start="364">\n	<p data-end="406" data-start="366">Sauce: BBQ (on wrap) + Ranch (on side)</p>\n	</li>\n	<li data-end="426" data-section-id="uxq90l" data-start="407">\n	<p data-end="426" data-start="409">Tortilla: Flour</p>\n	</li>\n</ul>\n\n<p data-end="454" data-start="428"><strong data-end="452" data-start="428">Buffalo Chicken Wrap</strong></p>\n\n<ul data-end="561" data-start="455">\n	<li data-end="507" data-section-id="nrnhxu" data-start="455">\n	<p data-end="507" data-start="457">Buffalo chicken\, spinach\, tomato\, cheddar cheese</p>\n	</li>\n	<li data-end="534" data-section-id="15fivzy" data-start="508">\n	<p data-end="534" data-start="510">Sauce: Ranch (on side)</p>\n	</li>\n	<li data-end="561" data-section-id="160jvpa" data-start="535">\n	<p data-end="561" data-start="537">Tortilla: Tomato basil</p>\n	</li>\n</ul>\n\n<p data-end="600" data-start="563"><strong data-end="598" data-start="563">Plant-Based Burger (Vegetarian)</strong></p>\n\n<ul data-end="721" data-start="601">\n	<li data-end="639" data-section-id="1gvjayh" data-start="601">\n	<p data-end="639" data-start="603">Plant-based patty\, spinach\, tomato</p>\n	</li>\n	<li data-end="682" data-section-id="eqqzaa" data-start="640">\n	<p data-end="682" data-start="642">Sauce: Chipotle ranch (spicy\, on side)</p>\n	</li>\n	<li data-end="721" data-section-id="1ezpj9b" data-start="683">\n	<p data-end="721" data-start="685">Bun: Potato bun or gluten-free bun</p>\n	</li>\n</ul>\n\n<p data-end="756" data-start="723"><strong data-end="754" data-start="723">Spinach Salad (Gluten-Free)</strong></p>\n\n<ul data-end="842" data-start="757">\n	<li data-end="810" data-section-id="d3hko9" data-start="757">\n	<p data-end="810" data-start="759">Spinach\, hard-boiled egg\, sweet potatoes\, carrots</p>\n	</li>\n	<li data-end="842" data-section-id="1bi2p9k" data-start="811">\n	<p data-end="842" data-start="813">Dressing: Lemon vinaigrette</p>\n	</li>\n</ul>\n<strong>1 Side:</strong>\n\n<ul>\n	<li data-end="905" data-section-id="6lwtbd" data-start="896">\n	<p data-end="905" data-start="898">Chips (Plain Ruffles)<br />\n	<br />\n	OR</p>\n	</li>\n	<li data-end="915" data-section-id="1g8ohn8" data-start="906">\n	<p data-end="915" data-start="908">Fruit (Apple\, Orange\, Banana)</p>\n	</li>\n</ul>\n<br />\n.\n<h3><b><u>*Please let us know of&nbsp\;any allergies or dietary restrictions*</u></b></h3>\n\n<div>\n<div>.</div>\n</div>\n\n<h1>Delivered right to your table!</h1>\nThe packed lunches will be delivered to your vendor table between 11:45am and 12:45pm.<br />\n.
LOCATION:
UID:e.1821.44432
SEQUENCE:3
DTSTAMP:20260424T090157Z
URL:https://business.oprfchamber.org/events/details/h-w-fair-vendor-packed-lunch-order-form-44432
END:VEVENT

END:VCALENDAR
