BEGIN:VCALENDAR
VERSION:2.0
PRODID:-//ChamberMaster//Event Calendar 2.0//EN
METHOD:PUBLISH
X-PUBLISHED-TTL:P3D
REFRESH-INTERVAL:P3D
CALSCALE:GREGORIAN
BEGIN:VEVENT
DTSTART:20260613T013000Z
DTEND:20260613T040000Z
X-MICROSOFT-CDO-ALLDAYEVENT:FALSE
SUMMARY:Movies in the Park: Wicked for Good - Park District of Oak Park
DESCRIPTION:Join us for a summer full of some of the best flicks out there! Grab a blanket\, dinner or snacks and join us under the stars to enjoy action\, fun\, and song!\n\nMovies are all free and open to the public - no pre-registrations needed\, simply show up and enjoy! \n\nAs a reminder\, all alcoholic beverages\, smoking and e-cigarettes are prohibited in our Parks. We appreciate your cooperation.\n\nIn the event of bad weather\, please check the Conditions page for weather/closure information.\n\nSpecial thanks to our event sponsor: Oak Park Pediatrics
X-ALT-DESC;FMTTYPE=text/html:<p><br />\nJoin us for a summer full of some of the best flicks out there! Grab a blanket\, dinner or snacks and join us under the stars to enjoy action\, fun\, and song!</p>\n\n<p>Movies are all free and open to the public - no pre-registrations needed\, simply show up and enjoy!&nbsp\;</p>\n\n<p><strong>As a reminder\,&nbsp\;all alcoholic beverages\, smoking and&nbsp\;e-cigarettes are prohibited in our Parks. We appreciate your cooperation.</strong></p>\n\n<p>In the event of bad weather\, please check the&nbsp\;<a href="https://pdop.org/facility-conditions/" style="box-sizing: border-box\; background-color: transparent\; color: rgb(34\, 34\, 34)\; text-decoration-line: none\; overflow-wrap: break-word\; box-shadow: none\;">Conditions&nbsp\;</a><a href="https://pdop.org/facility-conditions/">page for weather/closure information</a>.</p>\n\n<p>Special thanks to our event sponsor: <a href="https://www.oakparkpeds.com/">Oak Park Pediatrics</a></p>\n
LOCATION:Scoville Park 800 Lake Street Oak Park\, IL
UID:e.1821.44452
SEQUENCE:3
DTSTAMP:20260421T123021Z
URL:https://business.oprfchamber.org/events/details/movies-in-the-park-44452
END:VEVENT

END:VCALENDAR
