BEGIN:VCALENDAR
VERSION:2.0
PRODID:-//ChamberMaster//Event Calendar 2.0//EN
METHOD:PUBLISH
X-PUBLISHED-TTL:P3D
REFRESH-INTERVAL:P3D
CALSCALE:GREGORIAN
BEGIN:VEVENT
DTSTART:20260927T160000Z
DTEND:20260927T190000Z
X-MICROSOFT-CDO-ALLDAYEVENT:FALSE
SUMMARY:Park District of Oak Park: Fall Fest 2026
DESCRIPTION:Join the Park District of Oak Park for this popular and free family event. Rehm Park is transformed to celebrate the season and guests will enjoy Fall themed games and activities\, a DJ\, train rides\, food vendors and seasonal fun happenings taking place at the Oak Park Conservatory. \n\n\n\n2026 Presenting Sponsor: Battistoni Beam Polivka Orthodontics
X-ALT-DESC;FMTTYPE=text/html:<br />\nJoin the Park District of Oak Park for this popular and free family event. Rehm Park is transformed to celebrate the season and guests will enjoy Fall themed games and activities\, a DJ\, train rides\, food vendors and seasonal fun happenings taking place at the Oak Park Conservatory.&nbsp\;<br />\n<br />\n2026 Presenting Sponsor: <a href="https://www.awesomebraces.com/">Battistoni Beam Polivka Orthodontics</a>
LOCATION:Rehm Park & Pool 515 Garfield St Oak Park\, IL Oak Park Conservatory 615 Garfield Street Oak Park\, IL
UID:e.1821.44450
SEQUENCE:3
DTSTAMP:20260422T080041Z
URL:https://business.oprfchamber.org/events/details/park-district-of-oak-park-fall-fest-2026-44450
END:VEVENT

END:VCALENDAR
