BEGIN:VCALENDAR
VERSION:2.0
PRODID:-//ChamberMaster//Event Calendar 2.0//EN
METHOD:PUBLISH
X-PUBLISHED-TTL:P3D
REFRESH-INTERVAL:P3D
CALSCALE:GREGORIAN
BEGIN:VEVENT
DTSTART;VALUE=DATE:20260615
DTEND;VALUE=DATE:20260616
TRANSP:TRANSPARENT
X-MICROSOFT-CDO-ALLDAYEVENT:TRUE
SUMMARY:Q2 2026 Estimated Tax Deadline
DESCRIPTION:Monday\, June 15\, 2026 is the Q2 2026 estimated tax deadline.\n\n\n\nIf you expect to owe the IRS and/or Illinois $1\,000 in April of next year\, you are supposed to make quarterly estimated tax payments. If you don't\, you will be subject to the estimated tax penalty.\n\n\n\nPlease reach out to Wilson CPA Services if you would like help estimating your tax liability for 2026\, figuring out whether you should make these payments and what amount.
X-ALT-DESC;FMTTYPE=text/html:<br />\nMonday\, June 15\, 2026 is the Q2 2026 estimated tax deadline.<br />\n<br />\nIf you expect to owe the IRS and/or Illinois $1\,000 in April of next year\, you are supposed to make quarterly estimated tax payments. If you don&#39\;t\, you will be subject to the estimated tax penalty.<br />\n<br />\nPlease reach out to Wilson CPA Services if you would like help estimating your tax liability for 2026\, figuring out whether you should make these payments and what amount.&nbsp\;
LOCATION:
UID:e.1821.44536
SEQUENCE:3
DTSTAMP:20260419T171432Z
URL:https://business.oprfchamber.org/events/details/q2-2026-estimated-tax-deadline-44536
END:VEVENT

END:VCALENDAR
