BEGIN:VCALENDAR
VERSION:2.0
PRODID:-//ChamberMaster//Event Calendar 2.0//EN
METHOD:PUBLISH
X-PUBLISHED-TTL:P3D
REFRESH-INTERVAL:P3D
CALSCALE:GREGORIAN
BEGIN:VEVENT
DTSTART;VALUE=DATE:20260915
DTEND;VALUE=DATE:20260916
TRANSP:TRANSPARENT
X-MICROSOFT-CDO-ALLDAYEVENT:TRUE
SUMMARY:Q3 2026 Estimated Tax Deadline
DESCRIPTION:Tuesday\, September 15\, 2026 is the Q3 2026 estimated tax deadline. If you expect to owe the IRS and/or Illinois $1\,000 in April of next year\, you are supposed to make quarterly estimated tax payments. If you don't\, you will be subject to the estimated tax penalty.\n\n\n\nPlease reach out to Wilson CPA Services if you would like help estimating your tax liability for 2026\, figuring out whether you should make these payments and what amount.
X-ALT-DESC;FMTTYPE=text/html:<br />\nTuesday\, September 15\, 2026 is the Q3 2026 estimated tax deadline. If you expect to owe the IRS and/or Illinois $1\,000 in April of next year\, you are supposed to make quarterly estimated tax payments. If you don&#39\;t\, you will be subject to the estimated tax penalty.<br />\n<br />\nPlease reach out to Wilson CPA Services if you would like help estimating your tax liability for 2026\, figuring out whether you should make these payments and what amount.&nbsp\;
LOCATION:
UID:e.1821.44537
SEQUENCE:3
DTSTAMP:20260422T080042Z
URL:https://business.oprfchamber.org/events/details/q3-2026-estimated-tax-deadline-44537
END:VEVENT

END:VCALENDAR
