BEGIN:VCALENDAR
VERSION:2.0
PRODID:-//ChamberMaster//Event Calendar 2.0//EN
METHOD:PUBLISH
X-PUBLISHED-TTL:P3D
REFRESH-INTERVAL:P3D
CALSCALE:GREGORIAN
BEGIN:VEVENT
DTSTART:20260408T233000Z
DTEND:20260409T020000Z
X-MICROSOFT-CDO-ALLDAYEVENT:FALSE
SUMMARY:Sarah's Inn Associate Board Meet me at Maya
DESCRIPTION:Join Sarah's Inn Associate Board for Meet Me at Maya\, a casual evening to connect\, learn\, and get involved. \n\nOn Wednesday\, April 8\, 2026 from 6:30 9:00 PM\, we'll gather at Maya Del Sol for a relaxed night of conversation with current members of the Sarah's Inn Associate Board. This is a great opportunity to meet others who are passionate about supporting survivors of domestic violence and to learn how you can get involved with Sarah's Inn this year.\n\nWhether you're curious about the Associate Board or simply want to meet others in the community who care about this work\, we'd love to see you there. RSVP at sarahsinn.org/events/ab-meet-me-at-maya-2026/
X-ALT-DESC;FMTTYPE=text/html:<p><span style="color:rgb(0\, 0\, 0)">Join&nbsp\;Sarah&rsquo\;s Inn Associate Board&nbsp\;for&nbsp\;<span style="color:rgb(155\, 50\, 137)"><strong>Meet Me at Maya</strong></span>\, a casual evening to connect\, learn\, and get involved.&nbsp\;</span></p>\n\n<p><span style="color:rgb(0\, 0\, 0)">On&nbsp\;<span style="color:rgb(155\, 50\, 137)"><strong>Wednesday\, April 8\, 2026&nbsp\;</strong></span>from&nbsp\;<span style="color:rgb(155\, 50\, 137)"><strong>6:30&ndash\;9:00 PM</strong></span>\, we&rsquo\;ll gather at&nbsp\;Maya Del Sol&nbsp\;for a relaxed night of conversation with current members of the Sarah&rsquo\;s Inn Associate Board. This is a great opportunity to meet others who are passionate about supporting survivors of domestic violence and to learn how you can get involved with Sarah&rsquo\;s Inn this year.</span></p>\n\n<p><span style="color:rgb(0\, 0\, 0)">Whether you&rsquo\;re curious about the Associate Board or simply want to meet others in the community who care about this work\, we&rsquo\;d love to see you there. RSVP at&nbsp\;</span><a href="https://sarahsinn.org/events/ab-meet-me-at-maya-2026/">sarahsinn.org/events/ab-meet-me-at-maya-2026/</a></p>\n
LOCATION:Maya del Sol 144 S Oak Park Ave\, Oak Park\, IL 60302
UID:e.1821.44385
SEQUENCE:3
DTSTAMP:20260421T233858Z
URL:https://business.oprfchamber.org/events/details/sarah-s-inn-associate-board-meet-me-at-maya-44385
END:VEVENT

END:VCALENDAR
