BEGIN:VCALENDAR
VERSION:2.0
PRODID:-//ChamberMaster//Event Calendar 2.0//EN
METHOD:PUBLISH
X-PUBLISHED-TTL:P3D
REFRESH-INTERVAL:P3D
CALSCALE:GREGORIAN
BEGIN:VEVENT
DTSTART:20260623T233000Z
DTEND:20260624T030000Z
X-MICROSOFT-CDO-ALLDAYEVENT:FALSE
SUMMARY:Sarah's Inn Associate Board's Cruise for a Cause
DESCRIPTION:Save the Date!\n\nSet sail with our Associate Board on Tuesday\, June 23\, 2026\, aboard the Chicago Line Cruise's Ft. Dearborn for a night to remember celebrating\, connecting\, and supporting Sarah's Inn.\n\n\n\nFor information on sponsorship opportunities\, please contact Kelly Mitchell at development@sarahsinn.org to learn more.\n\nStay in the loop  sign up for our emails to be the first to receive event updates\, ticket information\, and more: Sign up here.
X-ALT-DESC;FMTTYPE=text/html:<h3><span style="font-size:20px"><span style="color:#9b3289"><strong>Save the Date!</strong></span></span></h3>\n\n<p><span style="font-size:16px"><span style="color:#000000">Set sail with our Associate Board on <span style="color:#72569d"><strong>Tuesday\, June 23\, 2026</strong></span>\, aboard the Chicago Line Cruise&#39\;s Ft. Dearborn for a night to remember&mdash\;celebrating\, connecting\, and supporting Sarah&rsquo\;s Inn.</span><br />\n<br />\nFor information on sponsorship opportunities\, please contact Kelly Mitchell at <a href="mailto:development@sarahsinn.org?subject=Cruise%20for%20a%20Cause%20Sponsorship">development@sarahsinn.org</a> to learn more.</span></p>\n\n<p><span style="font-size:16px"><span style="color:#000000">Stay in the loop&mdash\;</span>&nbsp\;<span style="color:#9b3289"><strong>sign up for our emails</strong></span>&nbsp\;<span style="color:#000000">to be the first to receive event updates\, ticket information\, and more:&nbsp\;<u><a class="decorated-link" href="https://secure.lglforms.com/form_engine/s/32F4wK_MlzFxg4gEXlzCsg" rel="nofollow" style="color: rgb(0\, 0\, 0)\;" target="_new">Sign up here</a></u>.</span></span></p>\n
LOCATION:
UID:e.1821.44335
SEQUENCE:3
DTSTAMP:20260422T030054Z
URL:https://business.oprfchamber.org/events/details/sarah-s-inn-associate-board-s-cruise-for-a-cause-44335
END:VEVENT

END:VCALENDAR
