BEGIN:VCALENDAR
VERSION:2.0
PRODID:-//ChamberMaster//Event Calendar 2.0//EN
METHOD:PUBLISH
X-PUBLISHED-TTL:P3D
REFRESH-INTERVAL:P3D
CALSCALE:GREGORIAN
BEGIN:VEVENT
DTSTART:20260511T140000Z
DTEND:20260511T220000Z
X-MICROSOFT-CDO-ALLDAYEVENT:FALSE
SUMMARY:Sarah's Inn's 40-Hour Domestic Violence Training - May 11- 15
DESCRIPTION:The 40-Hour Domestic Violence Training is the foundational\, state-required certificate training for new domestic violence professionals\, including volunteers. This training prepares individuals to work directly with survivors and equips anyone interested in addressing domestic violence in their communities with essential knowledge and skills.\n\nThis training is open to Sarah's Inn crisis line volunteers and members of the community interested in learning more about supporting survivors of domestic violence.\n\n\nThe May 2026 training will be held in person at the Sarah's Inn office in Forest Park on Monday\, May 11   Friday\, May 15\, 2026 from 9:00 AM   5:00 PM.
X-ALT-DESC;FMTTYPE=text/html:<p><br />\n<span style="color:rgb(0\, 0\, 0)">The&nbsp\;<strong>40-Hour Domestic Violence Training</strong>&nbsp\;is the foundational\, state-required certificate training for new domestic violence professionals\, including volunteers. This training prepares individuals to work directly with survivors and equips anyone interested in addressing domestic violence in their communities with essential knowledge and skills.</span></p>\n\n<p><span style="color:rgb(0\, 0\, 0)">This training is open to Sarah&rsquo\;s Inn crisis line volunteers and members of the community interested in learning more about supporting survivors of domestic violence.</span></p>\n\n<hr />\n<p><span style="color:rgb(0\, 0\, 0)">The May 2026 training will be held&nbsp\;<strong>in person</strong>&nbsp\;at the Sarah&rsquo\;s Inn office in Forest Park on Monday\, May 11 &ndash\; Friday\, May 15\, 2026 from 9:00 AM &ndash\; 5:00 PM.&nbsp\;</span></p>\n
LOCATION:Sarah's Inn Forest Park\, IL
UID:e.1821.44389
SEQUENCE:3
DTSTAMP:20260421T150637Z
URL:https://business.oprfchamber.org/events/details/sarah-s-inn-s-40-hour-domestic-violence-training-may-11-15-44389
END:VEVENT

END:VCALENDAR
