BEGIN:VCALENDAR
VERSION:2.0
PRODID:-//ChamberMaster//Event Calendar 2.0//EN
METHOD:PUBLISH
X-PUBLISHED-TTL:P3D
REFRESH-INTERVAL:P3D
CALSCALE:GREGORIAN
BEGIN:VEVENT
DTSTART:20260427T234500Z
DTEND:20260428T011500Z
X-MICROSOFT-CDO-ALLDAYEVENT:FALSE
SUMMARY:Spring Recalibration: Finding Your Footing When Life is Moving Too Fast
DESCRIPTION:Spring Recalibration is a 75-minute\, story-driven\, highly interactive gathering built around a simple but surprisingly rare thing: the chance to stop\, breathe\, and actually think about what matters most   and how to move toward it with intention.\n\nCome open\, ready to laugh a little\, and leave with a deep sense of groundedness... and a plan for what's next. \n\nEspecially resonant if you're navigating a transition\, carrying leadership responsibility\, or simply feeling the pull to get reoriented before the rest of 2026 runs away from you.\n\nMonday\, April 27 | 6:45 8:15 pm Oak Park Public Library   Veterans Room (2nd floor)\n\nComplimentary beverages provided by Ruby Fine Hibiscus Tea.\n\nComplimentary empanadas provided by Caf  Cubano.
X-ALT-DESC;FMTTYPE=text/html:<p><br />\n<span style="font-family:verdana"><strong><strong>Spring Recalibration</strong></strong><span style="font-size:13px">&nbsp\;is a 75-minute\, story-driven\, highly interactive gathering built around a simple but surprisingly rare thing: the chance to stop\, breathe\, and actually think about what matters most &mdash\; and how to move toward it with intention.</span></span></p>\n\n<p><span style="font-family:verdana">Come open\, ready to laugh a little\, and leave with a deep sense of groundedness... and a plan for <em>what&#39\;s next</em>.&nbsp\;</span></p>\n\n<p><span style="font-family:verdana"><em>Especially resonant if you&#39\;re navigating a transition\, carrying leadership responsibility\, or simply feeling the pull to get reoriented before the rest of 2026 runs away from you.</em></span></p>\n\n<p><span style="font-family:verdana"><strong><strong>Monday\, April 27 | 6:45&ndash\;8:15 pm</strong></strong>&nbsp\;Oak Park Public Library &mdash\; Veterans Room (2nd floor)</span></p>\n\n<p><span style="font-family:verdana">Complimentary beverages provided by&nbsp\;<a href="https://experienceruby.com/" rel="nofollow noopener noreferrer ugc" target="_blank" title="https://experienceruby.com">Ruby Fine Hibiscus Tea</a>.<br />\nComplimentary empanadas provided by&nbsp\;<a href="https://www.cafecubanochicago.com/" rel="nofollow noopener noreferrer ugc" target="_blank" title="https://www.cafecubanochicago.com">Caf&eacute\; Cubano</a>.</span></p>\n
LOCATION:Oak Park Public Library - Veterans' Room (2nd Floor)
UID:e.1821.44426
SEQUENCE:3
DTSTAMP:20260421T133350Z
URL:https://business.oprfchamber.org/events/details/spring-recalibration-clarity-leadership-and-choosing-what-matters-together-44426
END:VEVENT

END:VCALENDAR
